BEGIN:VCALENDAR
VERSION:2.0
PRODID:-//LIVP.nl - ECPv6.15.20//NONSGML v1.0//EN
CALSCALE:GREGORIAN
METHOD:PUBLISH
X-WR-CALNAME:LIVP.nl
X-ORIGINAL-URL:https://www.livp.nl
X-WR-CALDESC:Evenementen voor LIVP.nl
REFRESH-INTERVAL;VALUE=DURATION:PT1H
X-Robots-Tag:noindex
X-PUBLISHED-TTL:PT1H
BEGIN:VTIMEZONE
TZID:Europe/Amsterdam
BEGIN:DAYLIGHT
TZOFFSETFROM:+0100
TZOFFSETTO:+0200
TZNAME:CEST
DTSTART:20240331T010000
END:DAYLIGHT
BEGIN:STANDARD
TZOFFSETFROM:+0200
TZOFFSETTO:+0100
TZNAME:CET
DTSTART:20241027T010000
END:STANDARD
BEGIN:DAYLIGHT
TZOFFSETFROM:+0100
TZOFFSETTO:+0200
TZNAME:CEST
DTSTART:20250330T010000
END:DAYLIGHT
BEGIN:STANDARD
TZOFFSETFROM:+0200
TZOFFSETTO:+0100
TZNAME:CET
DTSTART:20251026T010000
END:STANDARD
BEGIN:DAYLIGHT
TZOFFSETFROM:+0100
TZOFFSETTO:+0200
TZNAME:CEST
DTSTART:20260329T010000
END:DAYLIGHT
BEGIN:STANDARD
TZOFFSETFROM:+0200
TZOFFSETTO:+0100
TZNAME:CET
DTSTART:20261025T010000
END:STANDARD
BEGIN:DAYLIGHT
TZOFFSETFROM:+0100
TZOFFSETTO:+0200
TZNAME:CEST
DTSTART:20270328T010000
END:DAYLIGHT
BEGIN:STANDARD
TZOFFSETFROM:+0200
TZOFFSETTO:+0100
TZNAME:CET
DTSTART:20271031T010000
END:STANDARD
END:VTIMEZONE
BEGIN:VEVENT
DTSTART;TZID=Europe/Amsterdam:20260416T093000
DTEND;TZID=Europe/Amsterdam:20260416T163000
DTSTAMP:20260421T033819
CREATED:20250414T085230Z
LAST-MODIFIED:20260415T091233Z
UID:10000620-1776331800-1776357000@www.livp.nl
SUMMARY:Opleiding Vertrouwenspersoon (Online + Rotterdam) - WACHTLIJST
DESCRIPTION:Deze LVV-erkende opleiding vertrouwenspersoon is twee dagen (klassikaal) online met een ‘live trainer’ en twee dagen op locatie Barendrecht (Rotterdam) van 9.30 tot 16.30 uur. Voor de dagen op locatie wordt voor koffie\, thee en lunch gezorgd. Bovendien krijg je het Dilemmaspel (t.w.v. € 69\,50) én het boekje In je Burcht\, uit je Burcht (t.w.v. € 14\,50) cadeau! \nVoor wie?\nDe opleiding is geschikt voor iedereen die professioneel de functie van interne of externe vertrouwenspersoon wil uitoefenen. \n\nOnderwerpen en vaardigheden\nIn deze geaccrediteerde opleiding leer je hoe je medewerkers die te maken krijgen met grensoverschrijdend of niet-integer gedrag\, kunt opvangen en begeleiden. Je krijgt informatie over ongewenste omgangsvormen en integriteitskwesties en word je bewust van de kaders van het vak. Daarnaast ga je aan de slag met gespreksvaardigheden\, gaan we uitgebreid oefenen met casuïstiek en krijg je inzicht in de gevolgen van ongewenste omgangsvormen op medewerkers.  \n\n\nLVV-geaccrediteerde opleiding\nDeze opleiding is geaccrediteerd door de Landelijke Vereniging van Vertrouwenspersonen (LVV). Na het\, met goed gevolg\, afronden van de opleiding ontvang je het certificaat waarna je\, indien gewenst\, het landelijk examen Vertrouwenspersoon kunt afleggen. \n\nCombi-deal\nOptioneel kan er gekozen worden voor de combi-deal: 4 daagse Opleiding Vertrouwenspersoon & 1 dag Integriteit (in de praktijk) in Amersfoort of online door middel van onze e-learning module. Indien je voor de combi-deal kiest\, dient deze integriteitsdag binnen een jaar na afronding van de basisopleiding gevolgd te worden. \n\n100% Aanwezigheid\nDe geaccrediteerde opleiding kent\, als vereiste vanuit de beroepsvereniging\, een 100% aanwezigheidsverplichting. In de aanvullende voorwaarden vind je informatie over situaties waarbij er sprake is van overmacht en je onverwacht (een deel van) de dag/opleiding niet kunt bijwonen. \nSchrijf je nu in
URL:https://www.livp.nl/scholing/opleiding-vertrouwenspersoon-rotterdam-10/
LOCATION:Online training\, 0nline training
CATEGORIES:Opleiding vertrouwenspersoon
ATTACH;FMTTYPE=image/jpeg:https://www.livp.nl/wp-content/uploads/2020/07/agenda-opleiding-vertrouwenspersoon-online.jpg
GEO:52.1274685;5.0593064
END:VEVENT
BEGIN:VEVENT
DTSTART;TZID=Europe/Amsterdam:20260408T093000
DTEND;TZID=Europe/Amsterdam:20260408T163000
DTSTAMP:20260421T033819
CREATED:20241218T074456Z
LAST-MODIFIED:20260327T103256Z
UID:10000611-1775640600-1775665800@www.livp.nl
SUMMARY:Opleiding Vertrouwenspersoon (Zwolle) - NOG 1 PLEK BESCHIKBAAR
DESCRIPTION:Deze LVV-erkende opleiding vertrouwenspersoon is in Zwolle op drie donderdagen en een woensdag van 9.30 tot 16.30 uur. Voor koffie\, thee en lunch wordt gezorgd. Bovendien krijg je het Dilemmaspel (t.w.v. € 69\,50) én het boekje In je Burcht\, uit je Burcht (t.w.v. € 14\,50) cadeau! \nVoor wie?\nDe opleiding is geschikt voor iedereen die professioneel de functie van interne of externe vertrouwenspersoon wil uitoefenen. \n\nOnderwerpen en vaardigheden\nIn deze geaccrediteerde opleiding leer je hoe je medewerkers die te maken krijgen met grensoverschrijdend of niet-integer gedrag\, kunt opvangen en begeleiden. Je krijgt informatie over ongewenste omgangsvormen en integriteitskwesties en word je bewust van de kaders van het vak. Daarnaast ga je aan de slag met gespreksvaardigheden\, gaan we uitgebreid oefenen met casuïstiek en krijg je inzicht in de gevolgen van ongewenste omgangsvormen op medewerkers.  \n\n\nLVV-geaccrediteerde opleiding\nDeze opleiding is geaccrediteerd door de Landelijke Vereniging van Vertrouwenspersonen (LVV). Na het\, met goed gevolg\, afronden van de opleiding ontvang je het certificaat waarna je\, indien gewenst\, het landelijk examen Vertrouwenspersoon kunt afleggen. \n\nCombi-deal\nOptioneel kan er gekozen worden voor de combi-deal: 4 daagse Opleiding Vertrouwenspersoon & 1 dag Integriteit (in de praktijk) in Amersfoort of online door middel van onze e-learning module. Indien je voor de combi-deal kiest\, dient deze integriteitsdag binnen een jaar na afronding van de basisopleiding gevolgd te worden. \n\n100% Aanwezigheid\nDe geaccrediteerde opleiding kent\, als vereiste vanuit de beroepsvereniging\, een 100% aanwezigheidsverplichting. In de aanvullende voorwaarden vind je informatie over situaties waarbij er sprake is van overmacht en je onverwacht (een deel van) de dag/opleiding niet kunt bijwonen. \nSchrijf je nu in
URL:https://www.livp.nl/scholing/opleiding-vertrouwenspersoon-zwolle-4/
LOCATION:Zwolle\, Stadionplein 20\, Zwolle\, Zwolle (regio)\, 8025 CP\, Nederland
CATEGORIES:Opleiding vertrouwenspersoon
ATTACH;FMTTYPE=image/jpeg:https://www.livp.nl/wp-content/uploads/2022/10/opleiding-vertrouwenspersoon-zwolle.jpg
GEO:52.516323444223;6.1200730254896
X-APPLE-STRUCTURED-LOCATION;VALUE=URI;X-ADDRESS=Zwolle Stadionplein 20 Zwolle Zwolle (regio) 8025 CP Nederland;X-APPLE-RADIUS=500;X-TITLE=Stadionplein 20:geo:6.1200730254896,52.516323444223
END:VEVENT
BEGIN:VEVENT
DTSTART;TZID=Europe/Amsterdam:20251007T093000
DTEND;TZID=Europe/Amsterdam:20251007T163000
DTSTAMP:20260421T033819
CREATED:20220211T060732Z
LAST-MODIFIED:20251007T115151Z
UID:10000502-1759829400-1759854600@www.livp.nl
SUMMARY:Opleiding vertrouwenspersoon  (Alkmaar) - NOG ENKELE PLEKKEN BESCHIKBAAR
DESCRIPTION:Deze LVV-erkende opleiding vertrouwenspersoon is in Alkmaar (Noord-Holland) op vier dinsdagen van 9.30 tot 16.30 uur. Voor koffie\, thee en lunch wordt gezorgd. De prijs is inclusief lesmateriaal en certificaat. Bovendien krijg je het Dilemmaspel (t.w.v. € 69\,50) én het boekje In je Burcht\, uit je Burcht (t.w.v. € 14\,50) cadeau! \nVoor wie?\nDe opleiding is geschikt voor iedereen die professioneel de functie van interne of externe vertrouwenspersoon wil uitoefenen. \n\nOnderwerpen en vaardigheden\nIn deze geaccrediteerde opleiding leer je hoe je medewerkers die te maken krijgen met grensoverschrijdend of niet-integer gedrag\, kunt opvangen en begeleiden. Je krijgt informatie over ongewenste omgangsvormen en integriteitskwesties en word je bewust van de kaders van het vak. Daarnaast ga je aan de slag met gespreksvaardigheden\, gaan we uitgebreid oefenen met casuïstiek en krijg je inzicht in de gevolgen van ongewenste omgangsvormen op medewerkers.  \n\n\nLVV-geaccrediteerde opleiding\nDeze opleiding is geaccrediteerd door de Landelijke Vereniging van Vertrouwenspersonen (LVV). Na het\, met goed gevolg\, afronden van de opleiding ontvang je het certificaat waarna je\, indien gewenst\, het landelijk examen Vertrouwenspersoon kunt afleggen. \n\nCombi-deal\nOptioneel kan er gekozen worden voor de combi-deal: 4 daagse Opleiding Vertrouwenspersoon & 1 dag Integriteit (in de praktijk) in Amersfoort of online door middel van onze e-learning module. Indien je voor de combi-deal kiest\, dient deze integriteitsdag binnen een jaar na afronding van de basisopleiding gevolgd te worden. \n\n100% Aanwezigheid\nDe geaccrediteerde opleiding kent\, als vereiste vanuit de beroepsvereniging\, een 100% aanwezigheidsverplichting. In de aanvullende voorwaarden vind je informatie over situaties waarbij er sprake is van overmacht en je onverwacht (een deel van) de dag/opleiding niet kunt bijwonen. \nSchrijf je nu in
URL:https://www.livp.nl/scholing/opleiding-vertrouwenspersoon-alkmaar/
LOCATION:Alkmaar\, Prins Bernhardlaan 16\, Alkmaar\, Alkmaar\, 1815 JG
CATEGORIES:Opleiding vertrouwenspersoon
ATTACH;FMTTYPE=image/jpeg:https://www.livp.nl/wp-content/uploads/2022/09/opleiding-vertrouwenspersoon-alkmaar.jpg
GEO:52.630359032181;4.7344025094878
X-APPLE-STRUCTURED-LOCATION;VALUE=URI;X-ADDRESS=Alkmaar Prins Bernhardlaan 16 Alkmaar Alkmaar 1815 JG;X-APPLE-RADIUS=500;X-TITLE=Prins Bernhardlaan 16:geo:4.7344025094878,52.630359032181
END:VEVENT
BEGIN:VEVENT
DTSTART;TZID=Europe/Amsterdam:20251002T093000
DTEND;TZID=Europe/Amsterdam:20251002T163000
DTSTAMP:20260421T033819
CREATED:20180312T102004Z
LAST-MODIFIED:20251001T074814Z
UID:10000291-1759397400-1759422600@www.livp.nl
SUMMARY:Opleiding Vertrouwenspersoon (Amersfoort) - NOG 2 PLEKKEN BESCHIKBAAR
DESCRIPTION:Deze LVV-erkende opleiding vertrouwenspersoon is in Amersfoort op vier donderdagen van 9.30 tot 16.30 uur. Voor koffie\, thee en lunch wordt gezorgd. Bovendien krijg je het Dilemmaspel (t.w.v. € 69\,50) én het boekje In je Burcht\, uit je Burcht (t.w.v. € 14\,50) cadeau! \nVoor wie?\nDe opleiding is geschikt voor iedereen die professioneel de functie van interne of externe vertrouwenspersoon wil uitoefenen. \n\nOnderwerpen en vaardigheden\nIn deze geaccrediteerde opleiding leer je hoe je medewerkers die te maken krijgen met grensoverschrijdend of niet-integer gedrag\, kunt opvangen en begeleiden. Je krijgt informatie over ongewenste omgangsvormen en integriteitskwesties en word je bewust van de kaders van het vak. Daarnaast ga je aan de slag met gespreksvaardigheden\, gaan we uitgebreid oefenen met casuïstiek en krijg je inzicht in de gevolgen van ongewenste omgangsvormen op medewerkers.  \n\n\nLVV-geaccrediteerde opleiding\nDeze opleiding is geaccrediteerd door de Landelijke Vereniging van Vertrouwenspersonen (LVV). Na het\, met goed gevolg\, afronden van de opleiding ontvang je het certificaat waarna je\, indien gewenst\, het landelijk examen Vertrouwenspersoon kunt afleggen. \n\nCombi-deal\nOptioneel kan er gekozen worden voor de combi-deal: 4 daagse Opleiding Vertrouwenspersoon & 1 dag Integriteit (in de praktijk) in Amersfoort of online door middel van onze e-learning module. Indien je voor de combi-deal kiest\, dient deze integriteitsdag binnen een jaar na afronding van de basisopleiding gevolgd te worden. \n\n100% Aanwezigheid\nDe geaccrediteerde opleiding kent\, als vereiste vanuit de beroepsvereniging\, een 100% aanwezigheidsverplichting. In de aanvullende voorwaarden vind je informatie over situaties waarbij er sprake is van overmacht en je onverwacht (een deel van) de dag/opleiding niet kunt bijwonen. \nSchrijf je nu in
URL:https://www.livp.nl/scholing/opleiding-vertrouwenspersoon-amersfoort-2/
LOCATION:Amersfoort\, Algolweg 15\, Amersfoort\, Amersfoort\, 3821 BG\, Nederland
CATEGORIES:Opleiding vertrouwenspersoon
ATTACH;FMTTYPE=image/jpeg:https://www.livp.nl/wp-content/uploads/2023/01/agenda-opleiding-vertrouwenspersoon-amersfoort.jpg
GEO:52.1732387;5.4164663
X-APPLE-STRUCTURED-LOCATION;VALUE=URI;X-ADDRESS=Amersfoort Algolweg 15 Amersfoort Amersfoort 3821 BG Nederland;X-APPLE-RADIUS=500;X-TITLE=Algolweg 15:geo:5.4164663,52.1732387
END:VEVENT
BEGIN:VEVENT
DTSTART;TZID=Europe/Amsterdam:20250924T093000
DTEND;TZID=Europe/Amsterdam:20250924T163000
DTSTAMP:20260421T033819
CREATED:20180330T134731Z
LAST-MODIFIED:20250922T094630Z
UID:10000410-1758706200-1758731400@www.livp.nl
SUMMARY:Opleiding Vertrouwenspersoon (Eindhoven) - NOG 1 PLEK BESCHIKBAAR
DESCRIPTION:Deze LVV-erkende opleiding vertrouwenspersoon is in Best (Eindhoven) op vier dagen van 9.30 tot 16.30 uur. Voor koffie\, thee en lunch wordt gezorgd. Ook is het lesmateriaal bij de prijs inbegrepen en ontvang je het Dilemmaspel t.w.v. € 69\,50. \nVoor wie?\nDe opleiding is geschikt voor iedereen die professioneel de functie van interne of externe vertrouwenspersoon wil uitoefenen. \n\nOnderwerpen en vaardigheden\nIn deze geaccrediteerde opleiding leer je hoe je medewerkers die te maken krijgen met grensoverschrijdend of niet-integer gedrag\, kunt opvangen en begeleiden. Je krijgt informatie over ongewenste omgangsvormen en integriteitskwesties en word je bewust van de kaders van het vak. Daarnaast ga je aan de slag met gespreksvaardigheden\, gaan we uitgebreid oefenen met casuïstiek en krijg je inzicht in de gevolgen van ongewenste omgangsvormen op medewerkers.  \n\n\nLVV-geaccrediteerde opleiding\nDeze opleiding is geaccrediteerd door de Landelijke Vereniging van Vertrouwenspersonen (LVV). Na het\, met goed gevolg\, afronden van de opleiding ontvang je het certificaat waarna je\, indien gewenst\, het landelijk examen Vertrouwenspersoon kunt afleggen. \n\nCombi-deal\nOptioneel kan er gekozen worden voor de combi-deal: 4 daagse Opleiding Vertrouwenspersoon & 1 dag Integriteit (in de praktijk) in Amersfoort of online door middel van onze e-learning module. Indien je voor de combi-deal kiest\, dient deze integriteitsdag binnen een jaar na afronding van de basisopleiding gevolgd te worden. \n\n100% Aanwezigheid\nDe geaccrediteerde opleiding kent\, als vereiste vanuit de beroepsvereniging\, een 100% aanwezigheidsverplichting. In de aanvullende voorwaarden vind je informatie over situaties waarbij er sprake is van overmacht en je onverwacht (een deel van) de dag/opleiding niet kunt bijwonen. \nSchrijf je nu in
URL:https://www.livp.nl/scholing/opleiding-vertrouwenspersoon-eindhoven-2/
LOCATION:Eindhoven (Best)\, Aarleseweg 6\, Best\, Eindhoven (regio)\, 5684 NR\, Nederland
CATEGORIES:Opleiding vertrouwenspersoon
ATTACH;FMTTYPE=image/jpeg:https://www.livp.nl/wp-content/uploads/2022/10/opleiding-vertrouwenspersoon-eindhoven.jpg
GEO:51.509969282593;5.3646396849031
X-APPLE-STRUCTURED-LOCATION;VALUE=URI;X-ADDRESS=Eindhoven (Best) Aarleseweg 6 Best Eindhoven (regio) 5684 NR Nederland;X-APPLE-RADIUS=500;X-TITLE=Aarleseweg 6:geo:5.3646396849031,51.509969282593
END:VEVENT
END:VCALENDAR